BEGIN:VCALENDAR
VERSION:2.0
PRODID:-//ChamberMaster//Event Calendar 2.0//EN
METHOD:PUBLISH
X-PUBLISHED-TTL:P3D
REFRESH-INTERVAL:P3D
CALSCALE:GREGORIAN
BEGIN:VEVENT
DTSTART:20231115T230000Z
DTEND:20231116T010000Z
X-MICROSOFT-CDO-ALLDAYEVENT:FALSE
SUMMARY:Trades Connect- Networking Event
DESCRIPTION:Calling all trades and contractors!\n\nWe all know the value of networking and building relationships. The difficulty we face is\n\nA: Where do we find the time.\n\nB: It's hard to refer most of the businesses that attend those events.\n\nC: Where are all the trades people!!\n\nThis event was created with only us in mind.\n\nCome and share what industry you are in\, build relationships with other contractors and know that opportunity can be had with every person there\; including people in the same trade as you!\n\n \n\nT?hank you to our event sponsors - Aaron Bondi - Edward Jones and Terry Bishop - Core Financial Outsourcing!\n\n \n\nT?HIS EVENT IS FOR TRADES PROFESSIONALS AND CONTRACTORS ONLY.\n\n \n\nThis is an opportunity to create something that works for us all.\n\nF?ood will be provided. Drinks will be available for purchase.\n\n \n\nE?vent Organizers\n\nR?aghu Sundara - Always Be Connecting - 847-302-0690\n\nR?occo Molfese- Crown Coverings
X-ALT-DESC;FMTTYPE=text/html:<p>Calling all trades and contractors!</p>\n\n<p>We all know the value of networking and building relationships. The difficulty we face is</p>\n\n<p>A: Where do we find the time.</p>\n\n<p>B: It&#39\;s hard to refer most of the businesses that attend those events.</p>\n\n<p>C: Where are all the trades people!!</p>\n\n<p>This event was created with only us in mind.</p>\n\n<p>Come and share what industry you are in\, build relationships with other contractors and know that opportunity can be had with every person there\; including people in the same trade as you!</p>\n\n<p>&nbsp\;</p>\n\n<p><strong>T?hank you to our event sponsors - Aaron Bondi - Edward Jones and Terry Bishop - Core Financial Outsourcing!</strong></p>\n\n<p>&nbsp\;</p>\n\n<p>T?HIS EVENT IS FOR TRADES PROFESSIONALS AND CONTRACTORS ONLY.</p>\n\n<p>&nbsp\;</p>\n\n<p>This is an opportunity to create something that works for us all.</p>\n\n<p><em>F?ood will be provided. Drinks will be available for purchase.</em></p>\n\n<p>&nbsp\;</p>\n\n<p>E?vent Organizers</p>\n\n<p>R?aghu Sundara - Always Be Connecting - 847-302-0690</p>\n\n<p>R?occo Molfese- Crown Coverings</p>\n\n<div style="margin-left:0px\; margin-right:0px">\n<div>\n<div>\n<div>\n<div>&nbsp\;</div>\n</div>\n</div>\n</div>\n</div>\n\n<div>\n<div style="margin-left:0px\; margin-right:0px">&nbsp\;</div>\n</div>\n
LOCATION:Poplar Creek Bowl 2354 West Higgins Road Hoffman Estates\, IL 60169
UID:e.9129.5322
SEQUENCE:3
DTSTAMP:20260419T120742Z
URL:http://business.schaumburgbusiness.com/events/details/trades-connect-networking-event-11-15-2023-5322
END:VEVENT

END:VCALENDAR
