BEGIN:VCALENDAR
VERSION:2.0
PRODID:-//ChamberMaster//Event Calendar 2.0//EN
METHOD:PUBLISH
X-PUBLISHED-TTL:P3D
REFRESH-INTERVAL:P3D
CALSCALE:GREGORIAN
BEGIN:VEVENT
DTSTART:20231108T143000Z
DTEND:20231108T183000Z
X-MICROSOFT-CDO-ALLDAYEVENT:FALSE
SUMMARY:STRONG IN SIX™ Business Traction Chicagoland Event
DESCRIPTION:STRONG IN SIX  Business Traction Chicagoland Event\n\nJoin Chicagoland EOS Implementers  Michael MZ Ziffra and Kevin Hundal and learn how EOS Worldwide  helps thousands of business leaders get real\, simple\, results for their organizations.\n\nYour journey to a 100% strong organization starts with looking at your business in an entirely new way   through the lens of the Six Key Components  that make a strong business: Vision\, People\, Data\, Issues\, Process\, and Traction .\n\n  Understand the Six Key Components of a truly great business\n\n  Acquire a set of simple tools proven to help run your business\n\n  Connect with like-minded business owners\, leaders\, and coaches\n\nThis event is all about helping you get stronger in the Six Key Components of your business while also allowing you to connect and network with other local business leaders who are also interested in EOS or already on their own EOS journey.\n\nTake this first step to make 2024 your strongest year yet!\n\n*Apply the STRONGINSIX Discount Code for free registration!\n\n\n\n**YOU MUST REGISTER THROUGH THE WEBSITE URL LINK PROVIDED.
X-ALT-DESC;FMTTYPE=text/html:<p><strong>STRONG IN SIX&trade\; Business Traction Chicagoland Event</strong></p>\n\n<p>Join Chicagoland EOS Implementers<span style="font-size:7px">&reg\;</span>&nbsp\;Michael MZ Ziffra&nbsp\;and&nbsp\;Kevin Hundal&nbsp\;and learn how&nbsp\;EOS Worldwide<span style="font-size:7px">&reg\;</span>&nbsp\;helps thousands of business leaders get real\, simple\, results for their organizations.</p>\n\n<p>Your journey to a 100% strong organization starts with looking at your business in an entirely new way &ndash\; through the lens of the Six Key Components&trade\; that make a strong business: Vision\, People\, Data\, Issues\, Process\, and Traction&reg\;.</p>\n\n<p>&bull\; Understand the Six Key Components of a&nbsp\;truly great business</p>\n\n<p>&bull\; Acquire a set of simple tools proven to help run your business</p>\n\n<p>&bull\; Connect with like-minded business owners\, leaders\, and coaches</p>\n\n<p>This event is all about helping you get stronger in the Six Key Components of your business while also allowing you to connect and network with other local business leaders who are also interested in EOS or already on their own EOS journey.</p>\n\n<p><strong>Take this first step to make 2024 your strongest year yet!</strong></p>\n\n<p>*Apply the&nbsp\;<strong>STRONGINSIX</strong>&nbsp\;Discount Code for free registration!<br />\n<br />\n<strong>**YOU MUST REGISTER THROUGH THE WEBSITE URL LINK PROVIDED.</strong></p>\n
LOCATION:BLUSKY RESTORATION - MAIN AUDITORIUM 3200 SQUIBB AVE ROLLING MEADOWS\, IL
UID:e.9129.5310
SEQUENCE:3
DTSTAMP:20260419T120939Z
URL:http://business.schaumburgbusiness.com/events/details/strong-in-six-business-traction-chicagoland-event-5310
END:VEVENT

END:VCALENDAR
