BEGIN:VCALENDAR
VERSION:2.0
PRODID:-//ChamberMaster//Event Calendar 2.0//EN
METHOD:PUBLISH
X-PUBLISHED-TTL:P3D
REFRESH-INTERVAL:P3D
CALSCALE:GREGORIAN
BEGIN:VEVENT
DTSTART;VALUE=DATE:20231112
DTEND;VALUE=DATE:20231114
TRANSP:TRANSPARENT
X-MICROSOFT-CDO-ALLDAYEVENT:TRUE
SUMMARY:Sponsors for Special Gifts Theatre 2024 SHOW season sought!
DESCRIPTION:Join us in supporting Special Gifts Theatre's 2024 Show Season by becoming a Business Sponsor\n\n \n\nCheck out our Sponsorship brochure and make a difference in the lives of Special Needs Theatre Students! \n\n \n\nNEW ADULT program\, Creating Outside the Lines\, was just added to Palatine. Classes Begin in January with an April performance. Register here!
X-ALT-DESC;FMTTYPE=text/html:<p><strong>Join us in supporting Special Gifts Theatre&#39\;s 2024 Show Season by becoming a Business Sponsor</strong></p>\n\n<p>&nbsp\;</p>\n\n<p>Check out our <a href="https://specialgiftstheatre.org/wp-content/uploads/2023/11/2024-Special-Gifts-Theatre-Peformance-Season-Sponsorship.pdf">Sponsorship brochure&nbsp\;</a>and make a difference in the lives of Special Needs Theatre Students!&nbsp\;</p>\n\n<p>&nbsp\;</p>\n\n<p>NEW ADULT program\, <a href="https://specialgiftstheatre.org/programs-2/creating-outside-the-lines/">Creating Outside the Lines\,</a> was just added to Palatine. Classes Begin in January with an April performance. <a href="https://specialgiftstheatre.org/registration/">Register here!</a></p>\n
LOCATION:WRS Junior High's Creating Outside the Lines Adult Program in Palatine and Conyers Learning Academy Musical Theatre Program in Rolling Meadows.
UID:e.9129.5326
SEQUENCE:3
DTSTAMP:20260419T121317Z
URL:http://business.schaumburgbusiness.com/events/details/sponsors-for-special-gifts-theatre-2024-show-season-sought-5326
END:VEVENT

END:VCALENDAR
