BEGIN:VCALENDAR
VERSION:2.0
PRODID:-//ChamberMaster//Event Calendar 2.0//EN
METHOD:PUBLISH
X-PUBLISHED-TTL:P3D
REFRESH-INTERVAL:P3D
CALSCALE:GREGORIAN
BEGIN:VEVENT
DTSTART:20231116T230000Z
DTEND:20231117T010000Z
X-MICROSOFT-CDO-ALLDAYEVENT:FALSE
SUMMARY:SBB Happy Hour Visitor's Day
DESCRIPTION:The SBB invites you to our exclusive Happy Hour Visitor's Day! Are you ready to elevate your business game in a friendly\, non-competitive environment? Look no further! We're not just a networking group\; we're a family of passionate professionals dedicated to mutual growth and success. Bring your business cards and an appetite\; we will be supplying heavy appetizers\, and there will be a cash bar.\n\nWhat Sets Us Apart?\n\nAt SBB\, we take networking to a whole new level. We're not just about exchanging business cards but about fostering genuine connections and nurturing strong relationships. We focus on expanding our members' client base by passing solid referrals. In our community\, collaboration reigns supreme\, and we firmly believe that when one member succeeds\, we all succeed.\n\nRSVP to Erik Williams at erik@successlending.com
X-ALT-DESC;FMTTYPE=text/html:<div>The SBB invites you to our exclusive Happy Hour Visitor&#39\;s Day! Are you ready to elevate your business game in a friendly\, non-competitive environment? Look no further! We&#39\;re not just a networking group\; we&#39\;re a family of passionate professionals dedicated to mutual growth and success. Bring your business cards and an appetite\; we will be supplying heavy appetizers\, and there will be a cash bar.</div>\n\n<div>What Sets Us Apart?</div>\n\n<div>At SBB\, we take networking to a whole new level. We&#39\;re not just about exchanging business cards but about fostering genuine connections and nurturing strong relationships. We focus on expanding our members&#39\; client base by passing solid referrals. In our community\, collaboration reigns supreme\, and we firmly believe that when one member succeeds\, we all succeed.</div>\n\n<div>RSVP to Erik Williams at erik@successlending.com</div>\n
LOCATION:Chicago Prime Italian 1370 Bank Dr Schaumburg IL 60173
UID:e.9129.5304
SEQUENCE:3
DTSTAMP:20260419T120627Z
URL:http://business.schaumburgbusiness.com/events/details/sbb-happy-hour-visitor-s-day-5304
END:VEVENT

END:VCALENDAR
