BEGIN:VCALENDAR
VERSION:2.0
PRODID:-//ChamberMaster//Event Calendar 2.0//EN
METHOD:PUBLISH
X-PUBLISHED-TTL:P3D
REFRESH-INTERVAL:P3D
CALSCALE:GREGORIAN
BEGIN:VEVENT
DTSTART:20231114T220000Z
DTEND:20231115T000000Z
X-MICROSOFT-CDO-ALLDAYEVENT:FALSE
SUMMARY:SBA Diversity Alliance Group - November Social
DESCRIPTION:The month of November will be a social for our friends of the SBA for networking. Come out and get to know your fellow business owners\, sales and others supporting diversity. \n\n\n\nRegister at the link here: https://www.eventbrite.com/e/sba-diversity-alliance-november-social-tickets-743771389247?aff=oddtdtcreator
X-ALT-DESC;FMTTYPE=text/html:The month of November will be a social for our friends of the SBA for networking. Come out and get to know your fellow business owners\, sales and others supporting diversity.&nbsp\;<br />\n<br />\nRegister at the link here:&nbsp\;<a href="https://www.eventbrite.com/e/sba-diversity-alliance-november-social-tickets-743771389247?aff=oddtdtcreator">https://www.eventbrite.com/e/sba-diversity-alliance-november-social-tickets-743771389247?aff=oddtdtcreator</a><br />\n&nbsp\;
LOCATION:Chicago Marriott Schaumburg
UID:e.9129.5312
SEQUENCE:3
DTSTAMP:20260419T120829Z
URL:http://business.schaumburgbusiness.com/events/details/sba-diversity-alliance-group-november-social-5312
END:VEVENT

END:VCALENDAR
