BEGIN:VCALENDAR
VERSION:2.0
PRODID:-//ChamberMaster//Event Calendar 2.0//EN
METHOD:PUBLISH
X-PUBLISHED-TTL:P3D
REFRESH-INTERVAL:P3D
CALSCALE:GREGORIAN
BEGIN:VEVENT
DTSTART:20231110T154500Z
DTEND:20231110T160000Z
X-MICROSOFT-CDO-ALLDAYEVENT:FALSE
SUMMARY:Ribbon Cutting - Radio Flyer Store
DESCRIPTION:Please join us in welcoming SBA member\, Radio Flyer Store to Schaumburg.  \n\nThey will be having their Grand Opening and ribbon cutting on November 10th at 9:45am.\n\nThe Radio Flyer Store is located in Woodfield Mall \n\n5 Woodfield Mall Level 1 Unit N120A\, Schaumburg\, IL 60173 (Lower level by Nordstrom)
X-ALT-DESC;FMTTYPE=text/html:<span style="font-family:arial\,sans-serif\;">Please join us in welcoming SBA member\, Radio Flyer Store to Schaumburg.&nbsp\; </span><br />\n<span style="font-family:arial\,sans-serif\;">They will be having their Grand Opening and ribbon cutting on November 10<sup>th</sup> at 9:45am.</span><br />\n<span style="font-family:arial\,sans-serif\;">The Radio Flyer Store is located in Woodfield Mall </span><br />\n<span style="font-family:arial\,sans-serif\;">5 Woodfield Mall Level 1 Unit N120A\, Schaumburg\, IL 60173 (Lower level by Nordstrom)</span>
LOCATION:
UID:e.9129.5306
SEQUENCE:3
DTSTAMP:20260419T121144Z
URL:http://business.schaumburgbusiness.com/events/details/ribbon-cutting-radio-flyer-store-5306
END:VEVENT

END:VCALENDAR
