BEGIN:VCALENDAR
VERSION:2.0
PRODID:-//ChamberMaster//Event Calendar 2.0//EN
METHOD:PUBLISH
X-PUBLISHED-TTL:P3D
REFRESH-INTERVAL:P3D
CALSCALE:GREGORIAN
BEGIN:VEVENT
DTSTART:20231104T160000Z
DTEND:20231104T230000Z
X-MICROSOFT-CDO-ALLDAYEVENT:FALSE
SUMMARY:Ribbon Cutting - Kacper Global Shoes
DESCRIPTION:Please join us in welcoming SBA Members\, Kacper Global Shoes.\n\n \n\nThe Village has arranged a ribbon cutting for Kacper Global Shoes in honor of their grand opening on November 4th at 11am.  \n\n\n\nKacper Global Shoes\n\n1106 S. Roselle Road\n\nSaturday\, Nov 4th @ 11am
X-ALT-DESC;FMTTYPE=text/html:<span style="color:black\;"><span style="font-family:aptos\,sans-serif\;"><span style="font-size:12.0pt\;">Please join us in welcoming SBA Members\, Kacper Global Shoes.</span></span></span><br />\n&nbsp\;<br />\n<span style="color:black\;"><span style="font-family:aptos\,sans-serif\;"><span style="font-size:12.0pt\;">The Village has arranged a ribbon cutting for Kacper Global Shoes in honor of their grand opening on November 4<sup>th</sup> at 11am.&nbsp\; </span></span></span><br />\n<br />\n<span style="color:black\;"><span style="font-family:aptos\,sans-serif\;"><span style="font-size:16.0pt\;">Kacper Global Shoes</span></span></span><br />\n<span style="color:black\;"><span style="font-family:aptos\,sans-serif\;"><span style="font-size:16.0pt\;">1106 S. Roselle Road</span></span></span><br />\n<span style="color:black\;"><span style="font-family:aptos\,sans-serif\;"><span style="font-size:16.0pt\;">Saturday\, Nov 4<sup>th</sup>&nbsp\;@ 11am</span></span></span><br />\n&nbsp\;
LOCATION:
UID:e.9129.5323
SEQUENCE:3
DTSTAMP:20260419T121025Z
URL:http://business.schaumburgbusiness.com/events/details/ribbon-cutting-kacper-global-shoes-5323
END:VEVENT

END:VCALENDAR
