BEGIN:VCALENDAR
VERSION:2.0
PRODID:-//ChamberMaster//Event Calendar 2.0//EN
METHOD:PUBLISH
X-PUBLISHED-TTL:P3D
REFRESH-INTERVAL:P3D
CALSCALE:GREGORIAN
BEGIN:VEVENT
DTSTART:20231117T173000Z
DTEND:20231117T174500Z
X-MICROSOFT-CDO-ALLDAYEVENT:FALSE
SUMMARY:Ribbon Cutting - Blue Horizon Driving Academy
DESCRIPTION:SBA members\, Blue Horizon Driving Academy will be having a ribbon cutting.\n\n \n\nThe ribbon cutting will take place at 11:30am on Monday\, November 20th.\n\n \n\nBlue Horizon Driving Academy is located at:\n\n1012 E. Schaumburg Rd.\, Streamwood\, IL \n\n \n\nFor more information about Blue Horizon Driving Academy check out their website: Blue Horizon Truck Driving School   Best CDL Truck Driving School Chicago   Free CDL classes. (bhdrivingschool.com)
X-ALT-DESC;FMTTYPE=text/html:<span style="font-family:arial\,sans-serif\;"><span style="font-size:12.0pt\;">SBA members\, Blue Horizon Driving Academy will be having a ribbon cutting.</span></span><br />\n&nbsp\;<br />\n<span style="font-family:arial\,sans-serif\;"><span style="font-size:12.0pt\;">The ribbon cutting will take place at 11:30am on Monday\, November 20<sup>th</sup>.</span></span><br />\n&nbsp\;<br />\n<span style="font-family:arial\,sans-serif\;"><span style="font-size:12.0pt\;">Blue Horizon Driving Academy is located at:</span></span><br />\n<span style="font-family:arial\,sans-serif\;"><span style="font-size:12.0pt\;">1012 E. Schaumburg Rd.\, Streamwood\, IL </span></span><br />\n&nbsp\;<br />\n<span style="font-family:arial\,sans-serif\;"><span style="font-size:12.0pt\;">For more information about Blue Horizon Driving Academy check out their website: </span></span><a href="https://www.bhdrivingschool.com/">Blue Horizon Truck Driving School &ndash\; Best CDL Truck Driving School Chicago &ndash\; Free CDL classes. (bhdrivingschool.com)</a><br />\n&nbsp\;
LOCATION:
UID:e.9129.5316
SEQUENCE:3
DTSTAMP:20260419T120911Z
URL:http://business.schaumburgbusiness.com/events/details/ribbon-cutting-blue-horizon-driving-academy-5316
END:VEVENT

END:VCALENDAR
