BEGIN:VCALENDAR
VERSION:2.0
PRODID:-//ChamberMaster//Event Calendar 2.0//EN
METHOD:PUBLISH
X-PUBLISHED-TTL:P3D
REFRESH-INTERVAL:P3D
CALSCALE:GREGORIAN
BEGIN:VEVENT
DTSTART:20231107T223000Z
DTEND:20231107T230000Z
X-MICROSOFT-CDO-ALLDAYEVENT:FALSE
SUMMARY:Ribbon Cutting - Athletico Physical Therapy
DESCRIPTION:Please join us in welcoming\, SBA members\, Athletico Physical Therapy to their newest Schaumburg location.  \n\n \n\nThey will be having a ribbon cutting on November 7th at 4:30pm followed by some food and beverages.\n\n \n\nAthletico Physical Therapy is located at 1031 S. Roselle Rd. in Schaumburg
X-ALT-DESC;FMTTYPE=text/html:<span style="font-family:arial\,sans-serif\;"><span style="font-size:12.0pt\;">Please join us in welcoming\, SBA members\, Athletico Physical Therapy to their newest Schaumburg location.&nbsp\; </span></span><br />\n&nbsp\;<br />\n<span style="font-family:arial\,sans-serif\;"><span style="font-size:12.0pt\;">They will be having a ribbon cutting on November 7<sup>th</sup> at 4:30pm followed by some food and beverages.</span></span><br />\n&nbsp\;<br />\n<span style="font-family:arial\,sans-serif\;"><span style="font-size:12.0pt\;">Athletico Physical Therapy is located at 1031 S. Roselle Rd. in Schaumburg</span></span>
LOCATION:
UID:e.9129.5251
SEQUENCE:3
DTSTAMP:20260419T120627Z
URL:http://business.schaumburgbusiness.com/events/details/ribbon-cutting-athletico-physical-therapy-5251
END:VEVENT

END:VCALENDAR
