BEGIN:VCALENDAR
VERSION:2.0
PRODID:-//ChamberMaster//Event Calendar 2.0//EN
METHOD:PUBLISH
X-PUBLISHED-TTL:P3D
REFRESH-INTERVAL:P3D
CALSCALE:GREGORIAN
BEGIN:VEVENT
DTSTART:20231116T180000Z
DTEND:20231116T190000Z
X-MICROSOFT-CDO-ALLDAYEVENT:FALSE
SUMMARY:Red Caffeine Business as "Un"usual Livestream - Get More out of Your 2024 Trade Shows
DESCRIPTION:REGISTER HERE\n\n\n\nPlan Strategically and Get More out of 2024 Trade Shows\n\nExhibiting at trade shows and attending live events takes a lot of time and both financial and human capital. So\, as you look ahead at next year's events calendar\, now is a good time to plan with intention\, so you come out with ROI.\n\nWe'll show you how to build up\, show up\, and follow up so that every event is as successful as possible. We've invited live event experts Kevin Fett (Ion Exhibits) and Glen Ruggiero (On Location) to share what they're seeing companies do to provide a memorable experience for customers and prospects. \n\nSession Takeaways\n\n\n	Trade show planning should start up to six months before the event and cover pre and post show marketing\n	Being honest about your targeted outcomes will set your teams up for success\n	A pre-event checklist is the best way to ensure you're prepared for anything
X-ALT-DESC;FMTTYPE=text/html:<p><a href="https://www.redcaffeine.com/business-as-unusual">REGISTER HERE</a><br />\n<br />\nPlan Strategically and Get More out of 2024 Trade Shows</p>\n\n<p>Exhibiting at trade shows and attending live events takes a lot of time and both financial and human capital. So\, as you look ahead at next year&rsquo\;s events calendar\, now is a good time to plan with intention\, so you come out with ROI.</p>\n\n<p>We&rsquo\;ll show you how to build up\, show up\, and follow up so that every event is as successful as possible. We&rsquo\;ve invited live event experts Kevin Fett (Ion Exhibits) and Glen Ruggiero (On Location) to share what they&rsquo\;re seeing companies do to provide a memorable experience for customers and prospects.&nbsp\;</p>\n\n<p>Session Takeaways</p>\n\n<ul>\n	<li>Trade show planning should start up to six months before the event and cover pre and post show marketing</li>\n	<li>Being honest about your targeted outcomes will set your teams up for success</li>\n	<li>A pre-event checklist is the best way to ensure you&rsquo\;re prepared for anything</li>\n</ul>\n
LOCATION:Virtual
UID:e.9129.5303
SEQUENCE:3
DTSTAMP:20260419T121316Z
URL:http://business.schaumburgbusiness.com/events/details/red-caffeine-business-as-un-usual-livestream-get-more-out-of-your-2024-trade-shows-5303
END:VEVENT

END:VCALENDAR
