BEGIN:VCALENDAR
VERSION:2.0
PRODID:-//ChamberMaster//Event Calendar 2.0//EN
METHOD:PUBLISH
X-PUBLISHED-TTL:P3D
REFRESH-INTERVAL:P3D
CALSCALE:GREGORIAN
BEGIN:VEVENT
DTSTART;VALUE=DATE:20231104
DTEND;VALUE=DATE:20231105
TRANSP:TRANSPARENT
X-MICROSOFT-CDO-ALLDAYEVENT:TRUE
SUMMARY:Morton's Presents a Taste of Legends
DESCRIPTION:Immerse yourself in the world of Tuscan wines at our exclusive dinner \n\nJoin us at Morton's The Steakhouse - Schaumburg to experience the charm of Tuscany at our exclusive wine dinner. We've curated a selection of the region's finest wines to be complemented perfectly by our Chef's exclusive pairings for this exquisite experience. \n\n6:30 PM \n\n$169 per person \n\nVisit mortons.com to purchase tickets \n \n\nhttps://www.mortons.com/event/mortons-presents-a-taste-of-two-legends/?utm_campaign=taste-of-legends-2023&utm_medium=qr-code&utm_source=store\n\n\n\nFirst Course - Charcuterie - cured salami\, braised sausage & garlic toast\, whipped ricotta\, marinated olives\, grilled Italian bread\n\nPairing - Feudo Montoni\, Rose di Adele\, IGT Terre Sicilane \n\n\n\nSecond Course - Lobster Risotto - cold water lobster\, Grana Padano\, arugula\, basil pesto \n\nPairing - Prelius\, Vermentino\, DOC Maremma Toscana \n\n\n\nThird Course - Dry-Aged New York Strip - creamy polenta\, mushroom crema\, prosciutto crisp\n\nPairing - Biondi Santi\, Rosso di MOntalcino DOC\n\n\n\nFourth Course - Short Rib Valdestano - white bean and toomato rgu\, cipollini onions\, Marsala demi\, crispy sage\n\nPairing - Gaja\, Pieve Santa Restituta\, Brunello di Montalcino DOP\n\n\n\nFifth Course -Salted Caramel Panna Cotta - dark chocolate and pistachio biscotti \n\nPairing - Volpaia\, Vinsanto del Chianti Classico DOC
X-ALT-DESC;FMTTYPE=text/html:<h2 style="font-style: italic\; text-align: center\;"><span style="font-size:28px"><span style="font-family:tahoma"><strong>Immerse yourself in the world of Tuscan wines at our exclusive dinner&nbsp\;</strong></span></span></h2>\n\n<div style="text-align: center\;"><em>Join us at Morton&#39\;s The Steakhouse - Schaumburg to experience the charm of Tuscany at our exclusive wine dinner. We&#39\;ve curated a selection of the region&#39\;s finest wines to be complemented perfectly by our Chef&#39\;s exclusive pairings for this exquisite experience.&nbsp\;</em><br />\n<strong><span style="font-size:14px">6:30 PM&nbsp\;<br />\n$169 per person&nbsp\;<br />\nVisit mortons.com to purchase tickets</span>&nbsp\;</strong></div>\n&nbsp\;\n\n<div style="text-align: center\;"><strong><span style="font-size:14px"><a href="https://www.mortons.com/event/mortons-presents-a-taste-of-two-legends/?utm_campaign=taste-of-legends-2023&amp\;utm_medium=qr-code&amp\;utm_source=store">https://www.mortons.com/event/mortons-presents-a-taste-of-two-legends/?utm_campaign=taste-of-legends-2023&amp\;utm_medium=qr-code&amp\;utm_source=store</a></span></strong></div>\n\n<div style="text-align: center\;"><br />\n<u><strong>First Course </strong></u>- Charcuterie - cured salami\, braised sausage &amp\; garlic toast\, whipped ricotta\, marinated olives\, grilled Italian bread<br />\n<u><strong>Pairing </strong></u>- Feudo Montoni\, Rose di Adele\, IGT Terre Sicilane&nbsp\;<br />\n<br />\n<u><strong>Second Course </strong></u>- Lobster Risotto - cold water lobster\, Grana Padano\, arugula\, basil pesto&nbsp\;<br />\n<em><u>Pairing</u></em> - Prelius\, Vermentino\, DOC Maremma Toscana&nbsp\;<br />\n<br />\n<u><strong>Third Course</strong></u> - Dry-Aged New York Strip - creamy polenta\, mushroom crema\, prosciutto crisp<br />\n<u><strong>Pairing </strong></u>- Biondi Santi\, Rosso di MOntalcino DOC<br />\n<br />\n<u><strong>Fourth Course </strong></u>- Short Rib Valdestano - white bean and toomato rgu\, cipollini onions\, Marsala demi\, crispy sage<br />\n<u><strong>Pairing </strong></u>- Gaja\, Pieve Santa Restituta\, Brunello di Montalcino DOP<br />\n<br />\n<u><strong>Fifth Course</strong></u> -Salted Caramel Panna Cotta - dark chocolate and pistachio biscotti&nbsp\;<br />\n<u><strong>Pairing</strong></u> - Volpaia\, Vinsanto del Chianti Classico DOC&nbsp\;</div>\n<br />\n<br />\n&nbsp\;
LOCATION:Morton's The Steakhouse 1470 McConnor Pkwy Schaumburg\, IL 60173
UID:e.9129.5299
SEQUENCE:3
DTSTAMP:20260419T120938Z
URL:http://business.schaumburgbusiness.com/events/details/morton-s-presents-a-taste-of-legends-5299
END:VEVENT

END:VCALENDAR
