BEGIN:VCALENDAR
VERSION:2.0
PRODID:-//ChamberMaster//Event Calendar 2.0//EN
METHOD:PUBLISH
X-PUBLISHED-TTL:P3D
REFRESH-INTERVAL:P3D
CALSCALE:GREGORIAN
BEGIN:VEVENT
DTSTART:20231108T133000Z
DTEND:20231108T150000Z
X-MICROSOFT-CDO-ALLDAYEVENT:FALSE
SUMMARY:Mastering Financial Stability with Inconsistent Income
DESCRIPTION:Join us for networking and a dynamic and insightful presentation that will revolutionize your approach to managing finances in the face of fluctuating income streams. In today's ever-changing economic landscape\, understanding how to achieve financial stability when your income varies is crucial. Kyle Bennett\, Founder & Financial Coach at Prosperity Launch\, LLC\, brings you a concise and power-packed presentation that will equip you with practical strategies to navigate the ups and downs of your financial journey.\n\n\n\nWhat You'll Learn:\n\n	Proven techniques to budget effectively when income is inconsistent\n	Building emergency funds tailored to variable income\n	Creating a personalized financial roadmap for lasting stability\n\nWho Should Attend:\n\n\n\nThis presentation is tailored for small business owners\, sales professionals\, freelancers\, entrepreneurs\, and anyone else whose financial well-being depends on variable income sources. Whether you're seeking to build a safety net\, plan for the future\, or simply gain greater confidence in managing your finances\, this session is a must-attend.\n\n\n\nDon't miss this opportunity to gain valuable insights that will empower you to take control of your financial destiny. Join us and embark on a journey towards mastering financial stability\, regardless of the income fluctuations you face.
X-ALT-DESC;FMTTYPE=text/html:Join us for&nbsp\;<u>networking</u>&nbsp\;and a dynamic and insightful presentation that will revolutionize your approach to managing finances in the face of fluctuating income streams. In today&#39\;s ever-changing economic landscape\, understanding how to achieve financial stability when your income varies is crucial. Kyle Bennett\, Founder &amp\; Financial Coach at Prosperity Launch\, LLC\, brings you a concise and power-packed presentation that will equip you with practical strategies to navigate the ups and downs of your financial journey.<br />\n<br />\n<strong>What You&#39\;ll Learn:</strong>\n<ul>\n	<li>Proven techniques to budget effectively when income is inconsistent</li>\n	<li>Building emergency funds tailored to variable income</li>\n	<li>Creating a personalized financial roadmap for lasting stability</li>\n</ul>\n<strong>Who Should Attend:</strong><br />\n<br />\nThis presentation is tailored for small business owners\, sales professionals\, freelancers\, entrepreneurs\, and anyone else whose financial well-being depends on variable income sources. Whether you&#39\;re seeking to build a safety net\, plan for the future\, or simply gain greater confidence in managing your finances\, this session is a must-attend.<br />\n<br />\nDon&#39\;t miss this opportunity to gain valuable insights that will empower you to take control of your financial destiny. Join us and embark on a journey towards mastering financial stability\, regardless of the income fluctuations you face.
LOCATION:Honey Jam Cafe
UID:e.9129.5308
SEQUENCE:3
DTSTAMP:20260419T120627Z
URL:http://business.schaumburgbusiness.com/events/details/mastering-financial-stability-with-inconsistent-income-5308
END:VEVENT

END:VCALENDAR
