BEGIN:VCALENDAR
VERSION:2.0
PRODID:-//ChamberMaster//Event Calendar 2.0//EN
METHOD:PUBLISH
X-PUBLISHED-TTL:P3D
REFRESH-INTERVAL:P3D
CALSCALE:GREGORIAN
BEGIN:VEVENT
DTSTART:20231117T220000Z
DTEND:20231118T010000Z
X-MICROSOFT-CDO-ALLDAYEVENT:FALSE
SUMMARY:Ladies Night at Jewelry & Coin Mart
DESCRIPTION:Ladies Night at Jewelry & Coin Mart\n\nCome see our treasures!\n\nStop in for fabulous bargains!
X-ALT-DESC;FMTTYPE=text/html:<div style="text-align:center"><u><span style="font-size:36px"><strong>Ladies Night at Jewelry &amp\; Coin Mart</strong></span></u><br />\n<span style="font-size:20px">Come see our treasures!</span></div>\n\n<div style="text-align:center"><span style="font-size:20px">Stop in for fabulous bargains!</span></div>\n
LOCATION:Jewelry & Coin Mart 757 W Golf Road Schaumburg\, IL 60194
UID:e.9129.5325
SEQUENCE:3
DTSTAMP:20260419T121300Z
URL:http://business.schaumburgbusiness.com/events/details/ladies-night-at-jewelry-coin-mart-5325
END:VEVENT

END:VCALENDAR
