BEGIN:VCALENDAR
VERSION:2.0
PRODID:-//ChamberMaster//Event Calendar 2.0//EN
METHOD:PUBLISH
X-PUBLISHED-TTL:P3D
REFRESH-INTERVAL:P3D
CALSCALE:GREGORIAN
BEGIN:VEVENT
DTSTART:20231111T003000Z
DTEND:20231111T053000Z
X-MICROSOFT-CDO-ALLDAYEVENT:FALSE
SUMMARY:JOURNEYS | The Road Home BID For HOPE Gala
DESCRIPTION:JOURNEYS | The Road Home is your local non-profit serving people from your community that are at risk of losing their homes or have unfortunately lost their homes. On November 10th at 6:30PM we will be hosting our 27th Annual BID For HOPE Gala to benefit those we serve. This is a great way to invest in your community\, network with other like minded people\, support a charity and have a great time while doing so. This year\, the theme for the event is "A Night on the Red Carpet." Join us for a night of great food\, a live auction\, music and dancing.
X-ALT-DESC;FMTTYPE=text/html:<span style="font-family:arial\,helvetica\,sans-serif"><span style="font-size:14px">JOURNEYS | The Road Home is your local non-profit serving people from your community that are at risk of losing their homes or have unfortunately lost their homes. On November 10th at 6:30PM we will be hosting our 27th Annual BID For HOPE Gala to benefit those we serve. This is a great way to invest in your community\, network with other like minded people\, support a charity and have a great time while doing so.&nbsp\;<span style="background-color:rgb(255\, 255\, 255)">This year\, the theme for the event is &quot\;A Night on the Red Carpet.&quot\; Join us for a night of great food\, a live auction\, music and dancing.</span></span></span>
LOCATION:Cotillion Banquets at 360 S Creekside Dr\, Palatine\, IL 60074
UID:e.9129.5255
SEQUENCE:3
DTSTAMP:20260419T134302Z
URL:http://business.schaumburgbusiness.com/events/details/journeys-the-road-home-bid-for-hope-gala-5255
END:VEVENT

END:VCALENDAR
