BEGIN:VCALENDAR
VERSION:2.0
PRODID:-//ChamberMaster//Event Calendar 2.0//EN
METHOD:PUBLISH
X-PUBLISHED-TTL:P3D
REFRESH-INTERVAL:P3D
CALSCALE:GREGORIAN
BEGIN:VEVENT
DTSTART:20231111T233000Z
DTEND:20231112T043000Z
X-MICROSOFT-CDO-ALLDAYEVENT:FALSE
SUMMARY:Hopeful Beginnings Gala 2023
DESCRIPTION:Please join us for our annual fundraising Gala on Saturday\, November 11\, 2023 at Manzo's Banquets in Des Plaines.\n\nCocktail hour starts at 5:30\, followed by a 4 course dinner\, games\, and dancing\n\n\n\nThere will be a silent & live auction with amazing items and trips you have dreamed of!\n\n\n\nTo purchase gala or raffle tickets: https://www.hopefulbeginning.org/event/hopeful-beginnings-2023/\n\nor visit our website at hopefulbeginning.org under GALA
X-ALT-DESC;FMTTYPE=text/html:Please join us for our annual fundraising Gala on Saturday\, November 11\, 2023 at Manzo&#39\;s Banquets in Des Plaines.<br />\nCocktail hour starts at 5:30\, followed by a 4 course dinner\, games\, and dancing<br />\n<br />\nThere will be a silent &amp\; live auction with amazing items and trips you have dreamed of!<br />\n<br />\nTo purchase gala or raffle tickets:&nbsp\;https://www.hopefulbeginning.org/event/hopeful-beginnings-2023/<br />\nor visit our website at hopefulbeginning.org under GALA
LOCATION:Manzo's Banquets in Des Plaines 1571 Elmhurst Rd\, Des Plaines\, IL 60018
UID:e.9129.5307
SEQUENCE:3
DTSTAMP:20260419T120649Z
URL:http://business.schaumburgbusiness.com/events/details/hopeful-beginnings-gala-2023-5307
END:VEVENT

END:VCALENDAR
