BEGIN:VCALENDAR
VERSION:2.0
PRODID:-//ChamberMaster//Event Calendar 2.0//EN
METHOD:PUBLISH
X-PUBLISHED-TTL:P3D
REFRESH-INTERVAL:P3D
CALSCALE:GREGORIAN
BEGIN:VEVENT
DTSTART:20260420T050000Z
DTEND:20260420T050000Z
X-MICROSOFT-CDO-ALLDAYEVENT:FALSE
SUMMARY:Community Student Art Exhibition at Trader Joe’s Schaumburg ??
DESCRIPTION:Aneta Art Classes   School of Art and Design in Schaumburg is proud to present a student exhibition in partnership with Trader Joe's Schaumburg\, celebrating the creativity and artistic growth of local children.\n\nThis community showcase features artwork from students in our Art Adventure\, Painting\, and Drawing programs and reflects our mission to help creative children grow into confident future designers through structured\, hands-on education.\n\nWe are grateful to partner with local businesses that help bring children's creativity into public spaces and strengthen the cultural fabric of Schaumburg.\n\nFamilies\, community members\, and local professionals are warmly invited to stop by\, enjoy the exhibit\, and support the next generation of young creators.\n\n?? On display now\n\n? Supporting local children\, families\, and creative education in Schaumburg
X-ALT-DESC;FMTTYPE=text/html:<p>Aneta Art Classes &ndash\; <strong>School of Art and Design in Schaumburg</strong> is proud to present a student exhibition in partnership with Trader Joe&rsquo\;s Schaumburg\, celebrating the creativity and artistic growth of local children.</p>\n\n<p>This community showcase features artwork from students in our Art Adventure\, Painting\, and Drawing programs and reflects our mission to help creative children grow into confident future designers through structured\, hands-on education.</p>\n\n<p>We are grateful to partner with local businesses that help bring children&rsquo\;s creativity into public spaces and strengthen the cultural fabric of Schaumburg.</p>\n\n<p>Families\, community members\, and local professionals are warmly invited to stop by\, enjoy the exhibit\, and support the next generation of young creators.</p>\n\n<p>?? On display now</p>\n\n<p>? Supporting local children\, families\, and creative education in Schaumburg</p>\n
LOCATION:Trader Joe's Schaumburg 1426 E Golf Rd\, Schaumburg
UID:e.9129.10442
SEQUENCE:3
DTSTAMP:20260421T005053Z
URL:http://business.schaumburgbusiness.com/events/details/community-student-art-exhibition-at-trader-joe-s-schaumburg-04-20-2026-10442
END:VEVENT

END:VCALENDAR
