BEGIN:VCALENDAR
VERSION:2.0
PRODID:-//ChamberMaster//Event Calendar 2.0//EN
METHOD:PUBLISH
X-PUBLISHED-TTL:P3D
REFRESH-INTERVAL:P3D
CALSCALE:GREGORIAN
BEGIN:VEVENT
DTSTART:20231125T160000Z
DTEND:20231125T180000Z
X-MICROSOFT-CDO-ALLDAYEVENT:FALSE
SUMMARY:Business Owners turning Liabilities into Assets
DESCRIPTION:Compliments of J.P.A. Financials Inc. \n\n\n\nLearn how a small business owner can find ways to reduce their cost & add extra value to their existing business.
X-ALT-DESC;FMTTYPE=text/html:<h1>Compliments of <b style="font-family: Roboto\, sans-serif\; background-color: rgb(240\, 240\, 240)\;">J.P.A. Financials Inc. </b><br />\n<br />\nLearn how a small business owner can find ways to reduce their cost &amp\; add extra value to their existing business.</h1>\n
LOCATION:Cutting Hall Performance Center 150 E. Wood St. Palatine\, IL 60067
UID:e.9129.5331
SEQUENCE:3
DTSTAMP:20260419T133759Z
URL:http://business.schaumburgbusiness.com/events/details/business-owners-turning-liabilities-into-assets-5331
END:VEVENT

END:VCALENDAR
