BEGIN:VCALENDAR
VERSION:2.0
PRODID:-//ChamberMaster//Event Calendar 2.0//EN
METHOD:PUBLISH
X-PUBLISHED-TTL:P3D
REFRESH-INTERVAL:P3D
CALSCALE:GREGORIAN
BEGIN:VEVENT
DTSTART:20231101T200000Z
DTEND:20231102T000000Z
X-MICROSOFT-CDO-ALLDAYEVENT:FALSE
SUMMARY:Anniversary Sale
DESCRIPTION:It's been one full year since we opened our Rolling Meadows location! In honor of this momentous occasion\, we are having an Anniversary Sale highlighting the best deals of the year. Call or text to RSVP\, and get a FREE $50 spa gift card. Visit awmedspa.com to view all of the treatments and products we will have on sale that day.
X-ALT-DESC;FMTTYPE=text/html:It&#39\;s been one full year since we opened our Rolling Meadows location! In honor of this momentous occasion\, we are having an Anniversary Sale highlighting the best deals of the year. Call or text to RSVP\, and get a FREE $50 spa gift card. Visit awmedspa.com to view all of the treatments and products we will have on sale that day.
LOCATION:1941 Rohlwing Rd\, Suite\, Rolling Meadows\, IL\, 60008
UID:e.9129.5262
SEQUENCE:3
DTSTAMP:20260419T121102Z
URL:http://business.schaumburgbusiness.com/events/details/anniversary-sale-11-01-2023-5262
END:VEVENT

END:VCALENDAR
